BEGIN:VCALENDAR
VERSION:2.0
PRODID:-//CPZ - ECPv5.16.4.1//NONSGML v1.0//EN
CALSCALE:GREGORIAN
METHOD:PUBLISH
X-WR-CALNAME:CPZ
X-ORIGINAL-URL:https://www.kennisnetgeboortezorg.nl
X-WR-CALDESC:Evenementen voor CPZ
BEGIN:VTIMEZONE
TZID:Europe/Amsterdam
BEGIN:DAYLIGHT
TZOFFSETFROM:+0100
TZOFFSETTO:+0200
TZNAME:CEST
DTSTART:20250330T010000
END:DAYLIGHT
BEGIN:STANDARD
TZOFFSETFROM:+0200
TZOFFSETTO:+0100
TZNAME:CET
DTSTART:20251026T010000
END:STANDARD
END:VTIMEZONE
BEGIN:VEVENT
DTSTART;TZID=Europe/Amsterdam:20250128T120000
DTEND;TZID=Europe/Amsterdam:20250128T124500
DTSTAMP:20260421T101618
CREATED:20250122T103718Z
LAST-MODIFIED:20250122T105003Z
UID:100425-1738065600-1738068300@www.kennisnetgeboortezorg.nl
SUMMARY:Webinar Pharos: ‘Multi Disciplinair Overleg: gelijkwaardig samenwerken met ouders’ Kansrijke Start
DESCRIPTION:Masterstudent Suzanna Broekhuizen heeft onderzoek gedaan naar de manier waarop professionals en ouders met elkaar kunnen samenwerken in het MDO Kansrijke Start. Pharos orginiseert daarover een lunchwebinar op dinsdag 28 januari van 12.00 tot 12.45 uur. Een goede samenwerking tussen professionals is extra belangrijk als het gaat om ouders in complexere situaties. Daarom wordt er door veel Kansrijke Start coalities (twee) maandelijks een Multi Disciplinair Overleg (MDO) georganiseerd. \nEen MDO geeft professionals de mogelijkheid om gelijkwaardig samen te werken met ouders. Maar\, de combinatie van samenwerken met ouders én andere professionals kan best een uitdaging zijn! \n\nHoe begrijp je elkaar goed en waar moet je op letten om je boodschap goed over te brengen?\nHoe kun je als professional een vertrouwensband opbouwen met ouders?\n\nMasterstudent Suzanna Broekhuizen heeft op deze vragen (en meer!) een antwoord gezocht in haar onderzoek. Ze neemt je graag mee in haar bevindingen tijdens deze lunchwebinar\, op dinsdag 28 januari van 12.00 tot 12.45 uur. Laat je inspireren en stel al je vragen over dit onderwerp! \nMeer informatie & aanmelden
URL:https://www.kennisnetgeboortezorg.nl/agenda/webinar-kansrijke-start-multi-disciplinair-overleg-gelijkwaardig-samenwerken-met-ouders/
ATTACH;FMTTYPE=image/png:https://www.kennisnetgeboortezorg.nl/wp-content/uploads/2024/08/Uitnodiging-conf-2-1920-x-1080-px-13.png
END:VEVENT
END:VCALENDAR